BEGIN:VCALENDAR
VERSION:2.0
PRODID:-//Alcester Victoria Silver Band - ECPv6.15.20//NONSGML v1.0//EN
CALSCALE:GREGORIAN
METHOD:PUBLISH
X-WR-CALNAME:Alcester Victoria Silver Band
X-ORIGINAL-URL:https://avsband.co.uk
X-WR-CALDESC:Events for Alcester Victoria Silver Band
REFRESH-INTERVAL;VALUE=DURATION:PT1H
X-Robots-Tag:noindex
X-PUBLISHED-TTL:PT1H
BEGIN:VTIMEZONE
TZID:Europe/London
BEGIN:DAYLIGHT
TZOFFSETFROM:+0000
TZOFFSETTO:+0100
TZNAME:BST
DTSTART:20240331T010000
END:DAYLIGHT
BEGIN:STANDARD
TZOFFSETFROM:+0100
TZOFFSETTO:+0000
TZNAME:GMT
DTSTART:20241027T010000
END:STANDARD
BEGIN:DAYLIGHT
TZOFFSETFROM:+0000
TZOFFSETTO:+0100
TZNAME:BST
DTSTART:20250330T010000
END:DAYLIGHT
BEGIN:STANDARD
TZOFFSETFROM:+0100
TZOFFSETTO:+0000
TZNAME:GMT
DTSTART:20251026T010000
END:STANDARD
BEGIN:DAYLIGHT
TZOFFSETFROM:+0000
TZOFFSETTO:+0100
TZNAME:BST
DTSTART:20260329T010000
END:DAYLIGHT
BEGIN:STANDARD
TZOFFSETFROM:+0100
TZOFFSETTO:+0000
TZNAME:GMT
DTSTART:20261025T010000
END:STANDARD
BEGIN:DAYLIGHT
TZOFFSETFROM:+0000
TZOFFSETTO:+0100
TZNAME:BST
DTSTART:20270328T010000
END:DAYLIGHT
BEGIN:STANDARD
TZOFFSETFROM:+0100
TZOFFSETTO:+0000
TZNAME:GMT
DTSTART:20271031T010000
END:STANDARD
END:VTIMEZONE
BEGIN:VEVENT
DTSTART;TZID=Europe/London:20250815T200000
DTEND;TZID=Europe/London:20250815T220000
DTSTAMP:20260423T192018
CREATED:20250717T194602Z
LAST-MODIFIED:20250717T194602Z
UID:501-1755288000-1755295200@avsband.co.uk
SUMMARY:Polurrian on the Lizard Hotel
DESCRIPTION:Small groups will be playing a short concert at the base for our Cornwall tour.u
URL:https://avsband.co.uk/event/polurrian-on-the-lizard-hotel/
LOCATION:Polurrian on the Lizard\, Polurrian Rd\, Helston\, TR12 7EN\, United Kingdom
END:VEVENT
BEGIN:VEVENT
DTSTART;TZID=Europe/London:20250816T140000
DTEND;TZID=Europe/London:20250816T160000
DTSTAMP:20260423T192018
CREATED:20250717T194931Z
LAST-MODIFIED:20250717T195206Z
UID:504-1755352800-1755360000@avsband.co.uk
SUMMARY:Truro Cathedral
DESCRIPTION:We will be performing with our new friends at Redruth Town Band outside the magnificent Truro Cathedral.
URL:https://avsband.co.uk/event/truro-cathedral/
LOCATION:Truro Cathedral\, St Marys Street\, Truro\, TR1 2AF
END:VEVENT
BEGIN:VEVENT
DTSTART;TZID=Europe/London:20250817T183000
DTEND;TZID=Europe/London:20250817T203000
DTSTAMP:20260423T192018
CREATED:20250717T195510Z
LAST-MODIFIED:20250717T195510Z
UID:507-1755455400-1755462600@avsband.co.uk
SUMMARY:Bands at The Harbour Inn
DESCRIPTION:We will be playing outside The Harbour Inn\, Porthleven with our new friends at Porthleven Town Band.
URL:https://avsband.co.uk/event/bands-at-the-harbour-inn/
LOCATION:The Harbour Inn\, Commercial Road\, Porthleven\, TR13 9JB
END:VEVENT
BEGIN:VEVENT
DTSTART;TZID=Europe/London:20250907T143000
DTEND;TZID=Europe/London:20250907T163000
DTSTAMP:20260423T192018
CREATED:20250221T083931Z
LAST-MODIFIED:20250221T083931Z
UID:475-1757255400-1757262600@avsband.co.uk
SUMMARY:Droitwich Bandstand
DESCRIPTION:
URL:https://avsband.co.uk/event/droitwich-bandstand-3/
LOCATION:Lido Park\, Worcester Rd\, Droitwich\, WR9 8AA\, United Kingdom
END:VEVENT
BEGIN:VEVENT
DTSTART;TZID=Europe/London:20251004T193000
DTEND;TZID=Europe/London:20251004T230000
DTSTAMP:20260423T192018
CREATED:20250221T084138Z
LAST-MODIFIED:20250221T084138Z
UID:477-1759606200-1759618800@avsband.co.uk
SUMMARY:Bretforton's 130 Years
DESCRIPTION:We are happy to have been invited to help Bretforton Silver Band celebrate this milestone
URL:https://avsband.co.uk/event/bretfortons-130-years/
LOCATION:The Fleece\, The Cross\, Bretforton\, Evesham\, WR11 7JE\, United Kingdom
END:VEVENT
BEGIN:VEVENT
DTSTART;VALUE=DATE:20251011
DTEND;VALUE=DATE:20251012
DTSTAMP:20260423T192018
CREATED:20250221T084432Z
LAST-MODIFIED:20250221T084445Z
UID:479-1760140800-1760227199@avsband.co.uk
SUMMARY:Oaktoberfest
DESCRIPTION:Following the success of last year’s event – we are back bringing a taste of the Rhein to Alcester
URL:https://avsband.co.uk/event/oaktoberfest/
LOCATION:The Royal Oak\, 44 High Street\, Alcester\, B49 5AB
END:VEVENT
BEGIN:VEVENT
DTSTART;TZID=Europe/London:20251018T193000
DTEND;TZID=Europe/London:20251018T223000
DTSTAMP:20260423T192018
CREATED:20250221T084753Z
LAST-MODIFIED:20250221T084753Z
UID:483-1760815800-1760826600@avsband.co.uk
SUMMARY:Gordon Hartley-Bennett Memorial Concert
DESCRIPTION:We will be part of the concert held in the memory of our former conductor who sadly passed away last year.
URL:https://avsband.co.uk/event/gordon-hartley-bennett-memorial-concert/
LOCATION:Pershore Abbey\, Church Walk\, Pershore\, WR10 1BL\, United Kingdom
END:VEVENT
BEGIN:VEVENT
DTSTART;TZID=Europe/London:20251108T193000
DTEND;TZID=Europe/London:20251108T213000
DTSTAMP:20260423T192018
CREATED:20250221T084930Z
LAST-MODIFIED:20250221T084930Z
UID:486-1762630200-1762637400@avsband.co.uk
SUMMARY:Remembrance Concert
DESCRIPTION:To remember those who have fallen – in aid of the Royal British Legion
URL:https://avsband.co.uk/event/remembrance-concert-2/
END:VEVENT
BEGIN:VEVENT
DTSTART;TZID=Europe/London:20251109T101500
DTEND;TZID=Europe/London:20251109T101500
DTSTAMP:20260423T192018
CREATED:20250221T085035Z
LAST-MODIFIED:20250221T085035Z
UID:488-1762683300-1762683300@avsband.co.uk
SUMMARY:Remembrance Parade
DESCRIPTION:
URL:https://avsband.co.uk/event/remembrance-parade-2/
LOCATION:Alcester High Street\, High Street\, Alcester\, United Kingdom
END:VEVENT
BEGIN:VEVENT
DTSTART;TZID=Europe/London:20260221T190000
DTEND;TZID=Europe/London:20260221T213000
DTSTAMP:20260423T192018
CREATED:20260205T165815Z
LAST-MODIFIED:20260205T165815Z
UID:511-1771700400-1771709400@avsband.co.uk
SUMMARY:Spring Concert
DESCRIPTION:
URL:https://avsband.co.uk/event/spring-concert/
LOCATION:Routh Hall\, Bromsgrove School\, Worcerster Road\, Bromsgrove\, B61 7DU\, United Kingdom
END:VEVENT
BEGIN:VEVENT
DTSTART;TZID=Europe/London:20260425T190000
DTEND;TZID=Europe/London:20260425T213000
DTSTAMP:20260423T192018
CREATED:20260205T170320Z
LAST-MODIFIED:20260205T170320Z
UID:515-1777143600-1777152600@avsband.co.uk
SUMMARY:Tarantara Concert
DESCRIPTION:A joint concert with our friends the Tarantara Choir – times to be confirmed
URL:https://avsband.co.uk/event/tarantara-concert/
LOCATION:Greig Hall\, Kinwarton Road\, Alcester\, B49 6AD\, United Kingdom
END:VEVENT
BEGIN:VEVENT
DTSTART;TZID=Europe/London:20260606T190000
DTEND;TZID=Europe/London:20260606T210000
DTSTAMP:20260423T192018
CREATED:20260205T170426Z
LAST-MODIFIED:20260205T170426Z
UID:517-1780772400-1780779600@avsband.co.uk
SUMMARY:Royal British Legion 105th Anniversary Concert
DESCRIPTION:Details to be confirmed
URL:https://avsband.co.uk/event/royal-british-legion-105th-anniversary-concert/
LOCATION:Greig Hall\, Kinwarton Road\, Alcester\, B49 6AD\, United Kingdom
END:VEVENT
BEGIN:VEVENT
DTSTART;TZID=Europe/London:20260614T131500
DTEND;TZID=Europe/London:20260614T140000
DTSTAMP:20260423T192018
CREATED:20260205T170550Z
LAST-MODIFIED:20260205T170550Z
UID:519-1781442900-1781445600@avsband.co.uk
SUMMARY:Alcester Street Market
DESCRIPTION:We will once again be providing background music at the annual Alcester Street Market
URL:https://avsband.co.uk/event/alcester-street-market-5/
LOCATION:Alcester High Street\, High Street\, Alcester\, United Kingdom
END:VEVENT
BEGIN:VEVENT
DTSTART;TZID=Europe/London:20260628T143000
DTEND;TZID=Europe/London:20260628T163000
DTSTAMP:20260423T192018
CREATED:20260205T170837Z
LAST-MODIFIED:20260205T171341Z
UID:523-1782657000-1782664200@avsband.co.uk
SUMMARY:Evesham Bandstand
DESCRIPTION:
URL:https://avsband.co.uk/event/evesham-bandstand-4/
LOCATION:Abbey Park\, Abbey Park\, Pershore\, WR10 1JP\, United Kingdom
END:VEVENT
BEGIN:VEVENT
DTSTART;TZID=Europe/London:20260816T143000
DTEND;TZID=Europe/London:20260816T163000
DTSTAMP:20260423T192018
CREATED:20260205T170925Z
LAST-MODIFIED:20260205T171406Z
UID:525-1786890600-1786897800@avsband.co.uk
SUMMARY:Droitwich Bandstand
DESCRIPTION:
URL:https://avsband.co.uk/event/droitwich-bandstand-4/
LOCATION:Lido Park\, Worcester Rd\, Droitwich\, WR9 8AA\, United Kingdom
END:VEVENT
BEGIN:VEVENT
DTSTART;TZID=Europe/London:20260906T143000
DTEND;TZID=Europe/London:20260906T163000
DTSTAMP:20260423T192018
CREATED:20260205T170645Z
LAST-MODIFIED:20260205T170645Z
UID:521-1788705000-1788712200@avsband.co.uk
SUMMARY:Bromsgrove Bandstand
DESCRIPTION:
URL:https://avsband.co.uk/event/bromsgrove-bandstand-5/
LOCATION:Sanders Park\, Kidderminster Rd\, Bromsgrove\, B61 7JP\, United Kingdom
END:VEVENT
BEGIN:VEVENT
DTSTART;TZID=Europe/London:20261107T193000
DTEND;TZID=Europe/London:20261107T220000
DTSTAMP:20260423T192018
CREATED:20260205T171016Z
LAST-MODIFIED:20260205T171016Z
UID:527-1794079800-1794088800@avsband.co.uk
SUMMARY:Remembrance Concert
DESCRIPTION:
URL:https://avsband.co.uk/event/remembrance-concert-3/
LOCATION:St Nicholas C Of E Church\, Butter Street\, Alcester\, B49 5AL\, United Kingdom
END:VEVENT
BEGIN:VEVENT
DTSTART;TZID=Europe/London:20261214T193000
DTEND;TZID=Europe/London:20261214T220000
DTSTAMP:20260423T192018
CREATED:20260205T171217Z
LAST-MODIFIED:20260205T171217Z
UID:531-1797276600-1797285600@avsband.co.uk
SUMMARY:Christmas Concert
DESCRIPTION:
URL:https://avsband.co.uk/event/christmas-concert-4/
LOCATION:St Nicholas C Of E Church\, Butter Street\, Alcester\, B49 5AL\, United Kingdom
END:VEVENT
END:VCALENDAR