BEGIN:VCALENDAR
VERSION:2.0
PRODID:-//Alcester Victoria Silver Band - ECPv6.15.20//NONSGML v1.0//EN
CALSCALE:GREGORIAN
METHOD:PUBLISH
X-ORIGINAL-URL:https://avsband.co.uk
X-WR-CALDESC:Events for Alcester Victoria Silver Band
REFRESH-INTERVAL;VALUE=DURATION:PT1H
X-Robots-Tag:noindex
X-PUBLISHED-TTL:PT1H
BEGIN:VTIMEZONE
TZID:Europe/London
BEGIN:DAYLIGHT
TZOFFSETFROM:+0000
TZOFFSETTO:+0100
TZNAME:BST
DTSTART:20240331T010000
END:DAYLIGHT
BEGIN:STANDARD
TZOFFSETFROM:+0100
TZOFFSETTO:+0000
TZNAME:GMT
DTSTART:20241027T010000
END:STANDARD
BEGIN:DAYLIGHT
TZOFFSETFROM:+0000
TZOFFSETTO:+0100
TZNAME:BST
DTSTART:20250330T010000
END:DAYLIGHT
BEGIN:STANDARD
TZOFFSETFROM:+0100
TZOFFSETTO:+0000
TZNAME:GMT
DTSTART:20251026T010000
END:STANDARD
BEGIN:DAYLIGHT
TZOFFSETFROM:+0000
TZOFFSETTO:+0100
TZNAME:BST
DTSTART:20260329T010000
END:DAYLIGHT
BEGIN:STANDARD
TZOFFSETFROM:+0100
TZOFFSETTO:+0000
TZNAME:GMT
DTSTART:20261025T010000
END:STANDARD
END:VTIMEZONE
BEGIN:VEVENT
DTSTART;TZID=Europe/London:20250608T130000
DTEND;TZID=Europe/London:20250608T170000
DTSTAMP:20260423T160551
CREATED:20250221T083340Z
LAST-MODIFIED:20250221T083340Z
UID:464-1749387600-1749402000@avsband.co.uk
SUMMARY:Alcester Street Market
DESCRIPTION:The band will be performing background music at the annual street market in Alcester
URL:https://avsband.co.uk/event/alcester-street-market-4/
LOCATION:Alcester High Street\, High Street\, Alcester\, United Kingdom
END:VEVENT
BEGIN:VEVENT
DTSTART;TZID=Europe/London:20250615T143000
DTEND;TZID=Europe/London:20250615T163000
DTSTAMP:20260423T160551
CREATED:20250221T083436Z
LAST-MODIFIED:20250221T083436Z
UID:466-1749997800-1750005000@avsband.co.uk
SUMMARY:Bromsgrove Bandstand
DESCRIPTION:
URL:https://avsband.co.uk/event/bromsgrove-bandstand-4/
LOCATION:Sanders Park\, Kidderminster Rd\, Bromsgrove\, B61 7JP\, United Kingdom
END:VEVENT
END:VCALENDAR