BEGIN:VCALENDAR
VERSION:2.0
PRODID:-//Alcester Victoria Silver Band - ECPv6.15.20//NONSGML v1.0//EN
CALSCALE:GREGORIAN
METHOD:PUBLISH
X-ORIGINAL-URL:https://avsband.co.uk
X-WR-CALDESC:Events for Alcester Victoria Silver Band
REFRESH-INTERVAL;VALUE=DURATION:PT1H
X-Robots-Tag:noindex
X-PUBLISHED-TTL:PT1H
BEGIN:VTIMEZONE
TZID:Europe/London
BEGIN:DAYLIGHT
TZOFFSETFROM:+0000
TZOFFSETTO:+0100
TZNAME:BST
DTSTART:20240331T010000
END:DAYLIGHT
BEGIN:STANDARD
TZOFFSETFROM:+0100
TZOFFSETTO:+0000
TZNAME:GMT
DTSTART:20241027T010000
END:STANDARD
BEGIN:DAYLIGHT
TZOFFSETFROM:+0000
TZOFFSETTO:+0100
TZNAME:BST
DTSTART:20250330T010000
END:DAYLIGHT
BEGIN:STANDARD
TZOFFSETFROM:+0100
TZOFFSETTO:+0000
TZNAME:GMT
DTSTART:20251026T010000
END:STANDARD
BEGIN:DAYLIGHT
TZOFFSETFROM:+0000
TZOFFSETTO:+0100
TZNAME:BST
DTSTART:20260329T010000
END:DAYLIGHT
BEGIN:STANDARD
TZOFFSETFROM:+0100
TZOFFSETTO:+0000
TZNAME:GMT
DTSTART:20261025T010000
END:STANDARD
END:VTIMEZONE
BEGIN:VEVENT
DTSTART;TZID=Europe/London:20251004T193000
DTEND;TZID=Europe/London:20251004T230000
DTSTAMP:20260423T102030
CREATED:20250221T084138Z
LAST-MODIFIED:20250221T084138Z
UID:477-1759606200-1759618800@avsband.co.uk
SUMMARY:Bretforton's 130 Years
DESCRIPTION:We are happy to have been invited to help Bretforton Silver Band celebrate this milestone
URL:https://avsband.co.uk/event/bretfortons-130-years/
LOCATION:The Fleece\, The Cross\, Bretforton\, Evesham\, WR11 7JE\, United Kingdom
END:VEVENT
BEGIN:VEVENT
DTSTART;VALUE=DATE:20251011
DTEND;VALUE=DATE:20251012
DTSTAMP:20260423T102030
CREATED:20250221T084432Z
LAST-MODIFIED:20250221T084445Z
UID:479-1760140800-1760227199@avsband.co.uk
SUMMARY:Oaktoberfest
DESCRIPTION:Following the success of last year’s event – we are back bringing a taste of the Rhein to Alcester
URL:https://avsband.co.uk/event/oaktoberfest/
LOCATION:The Royal Oak\, 44 High Street\, Alcester\, B49 5AB
END:VEVENT
BEGIN:VEVENT
DTSTART;TZID=Europe/London:20251018T193000
DTEND;TZID=Europe/London:20251018T223000
DTSTAMP:20260423T102030
CREATED:20250221T084753Z
LAST-MODIFIED:20250221T084753Z
UID:483-1760815800-1760826600@avsband.co.uk
SUMMARY:Gordon Hartley-Bennett Memorial Concert
DESCRIPTION:We will be part of the concert held in the memory of our former conductor who sadly passed away last year.
URL:https://avsband.co.uk/event/gordon-hartley-bennett-memorial-concert/
LOCATION:Pershore Abbey\, Church Walk\, Pershore\, WR10 1BL\, United Kingdom
END:VEVENT
END:VCALENDAR